BEGIN:VCALENDAR
VERSION:2.0
PRODID:-//INTUIT Dance Studio - ECPv6.15.20//NONSGML v1.0//EN
CALSCALE:GREGORIAN
METHOD:PUBLISH
X-ORIGINAL-URL:https://intuitdance.org
X-WR-CALDESC:Events for INTUIT Dance Studio
REFRESH-INTERVAL;VALUE=DURATION:PT1H
X-Robots-Tag:noindex
X-PUBLISHED-TTL:PT1H
BEGIN:VTIMEZONE
TZID:America/Chicago
BEGIN:DAYLIGHT
TZOFFSETFROM:-0600
TZOFFSETTO:-0500
TZNAME:CDT
DTSTART:20250309T080000
END:DAYLIGHT
BEGIN:STANDARD
TZOFFSETFROM:-0500
TZOFFSETTO:-0600
TZNAME:CST
DTSTART:20251102T070000
END:STANDARD
BEGIN:DAYLIGHT
TZOFFSETFROM:-0600
TZOFFSETTO:-0500
TZNAME:CDT
DTSTART:20260308T080000
END:DAYLIGHT
BEGIN:STANDARD
TZOFFSETFROM:-0500
TZOFFSETTO:-0600
TZNAME:CST
DTSTART:20261101T070000
END:STANDARD
BEGIN:DAYLIGHT
TZOFFSETFROM:-0600
TZOFFSETTO:-0500
TZNAME:CDT
DTSTART:20270314T080000
END:DAYLIGHT
BEGIN:STANDARD
TZOFFSETFROM:-0500
TZOFFSETTO:-0600
TZNAME:CST
DTSTART:20271107T070000
END:STANDARD
END:VTIMEZONE
BEGIN:VEVENT
DTSTART;VALUE=DATE:20260530
DTEND;VALUE=DATE:20260531
DTSTAMP:20260419T080849
CREATED:20250908T161240Z
LAST-MODIFIED:20260306T164407Z
UID:9744-1780099200-1780185599@intuitdance.org
SUMMARY:Spring Celebration of Dance!  May 30\, 2026
DESCRIPTION:Join us as we celebrate a creative and productive dance season featuring our talented dancers! Dress rehearsal : May 28. \n\n\n\n\n\n\n\n\n\n\n\n\n\n\nBuy Tickets
URL:https://intuitdance.org/event/spring-celebration-of-dance-may-30-2026/
CATEGORIES:Dance Concert
ORGANIZER;CN="Intuit Dance!":MAILTO:Intuitdance@gmail.com
END:VEVENT
END:VCALENDAR