BEGIN:VCALENDAR
VERSION:2.0
PRODID:-//INTUIT Dance Studio - ECPv6.15.20//NONSGML v1.0//EN
CALSCALE:GREGORIAN
METHOD:PUBLISH
X-WR-CALNAME:INTUIT Dance Studio
X-ORIGINAL-URL:https://intuitdance.org
X-WR-CALDESC:Events for INTUIT Dance Studio
REFRESH-INTERVAL;VALUE=DURATION:PT1H
X-Robots-Tag:noindex
X-PUBLISHED-TTL:PT1H
BEGIN:VTIMEZONE
TZID:America/Chicago
BEGIN:DAYLIGHT
TZOFFSETFROM:-0600
TZOFFSETTO:-0500
TZNAME:CDT
DTSTART:20150308T080000
END:DAYLIGHT
BEGIN:STANDARD
TZOFFSETFROM:-0500
TZOFFSETTO:-0600
TZNAME:CST
DTSTART:20151101T070000
END:STANDARD
BEGIN:DAYLIGHT
TZOFFSETFROM:-0600
TZOFFSETTO:-0500
TZNAME:CDT
DTSTART:20160313T080000
END:DAYLIGHT
BEGIN:STANDARD
TZOFFSETFROM:-0500
TZOFFSETTO:-0600
TZNAME:CST
DTSTART:20161106T070000
END:STANDARD
BEGIN:DAYLIGHT
TZOFFSETFROM:-0600
TZOFFSETTO:-0500
TZNAME:CDT
DTSTART:20170312T080000
END:DAYLIGHT
BEGIN:STANDARD
TZOFFSETFROM:-0500
TZOFFSETTO:-0600
TZNAME:CST
DTSTART:20171105T070000
END:STANDARD
END:VTIMEZONE
BEGIN:VEVENT
DTSTART;TZID=America/Chicago:20161217T150000
DTEND;TZID=America/Chicago:20161217T163000
DTSTAMP:20260423T064700
CREATED:20161102T011955Z
LAST-MODIFIED:20161109T011645Z
UID:8576-1481986800-1481992200@intuitdance.org
SUMMARY:8th Annual: Petite Nutcracker
DESCRIPTION:Pre-Show “Rome & Juliet” is followed by our “Petite Nutcracker!” Attending both events is encouraged. Join us in taking in the beautiful spaces at Dominican\, while mingling with other dance aficionados. INTUIT Dance will be taking their creativity to new heights\, featuring the wonderful dancing of our emerging stars.
URL:https://intuitdance.org/event/8th-annual-petite-nutcracker/
LOCATION:Dominican University\, River Forest\, IL\, United States
ATTACH;FMTTYPE=image/jpeg:https://intuitdance.org/wp-content/uploads/2016/10/Nutcracker-500x500.jpg
END:VEVENT
BEGIN:VEVENT
DTSTART;TZID=America/Chicago:20161217T130000
DTEND;TZID=America/Chicago:20161217T173000
DTSTAMP:20260423T064700
CREATED:20161029T022451Z
LAST-MODIFIED:20161130T021822Z
UID:8363-1481979600-1481995800@intuitdance.org
SUMMARY:Pre-Show: Romeo & Juliet
DESCRIPTION:Members of ChoreoSpace and select students from INTUIT’s performing groups present a pre-show fundraiser.* Using the Dominican’s Gothic Architecture as its backdrop\, ChoreoSpace will create a traveling performance of this classic tale. Sip a beverage\, listen to Prokofiev’s beautiful score played live by pianist Kuang-Hao Haung and members of OPRF orchestra. \n*Tickets and donations are tax deductible.
URL:https://intuitdance.org/event/pre-show-romeo-juliet/
LOCATION:Dominican University\, River Forest\, IL\, United States
ATTACH;FMTTYPE=image/jpeg:https://intuitdance.org/wp-content/uploads/2016/10/RomeoJuliet-500x500.jpg
END:VEVENT
END:VCALENDAR